BEGIN:VCALENDAR
VERSION:2.0
PRODID:-//Royal Road School - ECPv6.0.0.1//NONSGML v1.0//EN
CALSCALE:GREGORIAN
METHOD:PUBLISH
X-ORIGINAL-URL:https://www.royalroad.school.nz
X-WR-CALDESC:Events for Royal Road School
REFRESH-INTERVAL;VALUE=DURATION:PT1H
X-Robots-Tag:noindex
X-PUBLISHED-TTL:PT1H
BEGIN:VTIMEZONE
TZID:Pacific/Auckland
BEGIN:STANDARD
TZOFFSETFROM:+1300
TZOFFSETTO:+1200
TZNAME:NZST
DTSTART:20250405T140000
END:STANDARD
BEGIN:DAYLIGHT
TZOFFSETFROM:+1200
TZOFFSETTO:+1300
TZNAME:NZDT
DTSTART:20250927T140000
END:DAYLIGHT
BEGIN:STANDARD
TZOFFSETFROM:+1300
TZOFFSETTO:+1200
TZNAME:NZST
DTSTART:20260404T140000
END:STANDARD
BEGIN:DAYLIGHT
TZOFFSETFROM:+1200
TZOFFSETTO:+1300
TZNAME:NZDT
DTSTART:20260926T140000
END:DAYLIGHT
END:VTIMEZONE
BEGIN:VEVENT
DTSTART;VALUE=DATE:20250731
DTEND;VALUE=DATE:20250801
DTSTAMP:20260425T020807
CREATED:20250526T223453Z
LAST-MODIFIED:20250526T223453Z
UID:1078-1753920000-1754006399@www.royalroad.school.nz
SUMMARY:Class Photo Day
DESCRIPTION:
URL:https://www.royalroad.school.nz/event/class-photo-day/
END:VEVENT
BEGIN:VEVENT
DTSTART;VALUE=DATE:20250818
DTEND;VALUE=DATE:20250823
DTSTAMP:20260425T020807
CREATED:20250816T105647Z
LAST-MODIFIED:20250816T105647Z
UID:1098-1755475200-1755907199@www.royalroad.school.nz
SUMMARY:Book Week
DESCRIPTION:
URL:https://www.royalroad.school.nz/event/book-week/
END:VEVENT
BEGIN:VEVENT
DTSTART;VALUE=DATE:20250818
DTEND;VALUE=DATE:20250823
DTSTAMP:20260425T020807
CREATED:20250816T105732Z
LAST-MODIFIED:20250816T105732Z
UID:1100-1755475200-1755907199@www.royalroad.school.nz
SUMMARY:Book Fair in the Library
DESCRIPTION:
URL:https://www.royalroad.school.nz/event/book-fair-in-the-library-2/
END:VEVENT
BEGIN:VEVENT
DTSTART;VALUE=DATE:20250819
DTEND;VALUE=DATE:20250820
DTSTAMP:20260425T020807
CREATED:20250816T105610Z
LAST-MODIFIED:20250816T105610Z
UID:1096-1755561600-1755647999@www.royalroad.school.nz
SUMMARY:Union Meeting - School closes at 1pm
DESCRIPTION:
URL:https://www.royalroad.school.nz/event/union-meeting-school-closes-at-1pm/
END:VEVENT
BEGIN:VEVENT
DTSTART;TZID=Pacific/Auckland:20250821T100000
DTEND;TZID=Pacific/Auckland:20250821T110000
DTSTAMP:20260425T020807
CREATED:20250816T105841Z
LAST-MODIFIED:20250816T105841Z
UID:1102-1755770400-1755774000@www.royalroad.school.nz
SUMMARY:Book Character Parade
DESCRIPTION:
URL:https://www.royalroad.school.nz/event/book-character-parade/
END:VEVENT
BEGIN:VEVENT
DTSTART;VALUE=DATE:20250902
DTEND;VALUE=DATE:20250903
DTSTAMP:20260425T020807
CREATED:20250816T105926Z
LAST-MODIFIED:20250816T110111Z
UID:1104-1756771200-1756857599@www.royalroad.school.nz
SUMMARY:Maori Parent Meeting
DESCRIPTION:
URL:https://www.royalroad.school.nz/event/maori-parent-meeting-2/
END:VEVENT
BEGIN:VEVENT
DTSTART;VALUE=DATE:20250909
DTEND;VALUE=DATE:20250910
DTSTAMP:20260425T020807
CREATED:20250816T110246Z
LAST-MODIFIED:20250816T110246Z
UID:1107-1757376000-1757462399@www.royalroad.school.nz
SUMMARY:Pasifika Parent Meeting
DESCRIPTION:
URL:https://www.royalroad.school.nz/event/pasifika-parent-meeting-2/
END:VEVENT
BEGIN:VEVENT
DTSTART;VALUE=DATE:20250916
DTEND;VALUE=DATE:20250917
DTSTAMP:20260425T020807
CREATED:20250816T110318Z
LAST-MODIFIED:20250816T110318Z
UID:1109-1757980800-1758067199@www.royalroad.school.nz
SUMMARY:General Parent Meeting
DESCRIPTION:
URL:https://www.royalroad.school.nz/event/general-parent-meeting-2/
END:VEVENT
BEGIN:VEVENT
DTSTART;VALUE=DATE:20250919
DTEND;VALUE=DATE:20250920
DTSTAMP:20260425T020807
CREATED:20250921T002706Z
LAST-MODIFIED:20250921T002706Z
UID:1173-1758240000-1758326399@www.royalroad.school.nz
SUMMARY:Last Day of Term 3
DESCRIPTION:
URL:https://www.royalroad.school.nz/event/last-day-of-term-3-2/
END:VEVENT
BEGIN:VEVENT
DTSTART;VALUE=DATE:20251006
DTEND;VALUE=DATE:20251007
DTSTAMP:20260425T020807
CREATED:20250921T002558Z
LAST-MODIFIED:20250921T002635Z
UID:1170-1759708800-1759795199@www.royalroad.school.nz
SUMMARY:First Day of Term 4
DESCRIPTION:
URL:https://www.royalroad.school.nz/event/last-day-of-term-3/
END:VEVENT
BEGIN:VEVENT
DTSTART;VALUE=DATE:20251023
DTEND;VALUE=DATE:20251024
DTSTAMP:20260425T020807
CREATED:20251013T230732Z
LAST-MODIFIED:20251013T230732Z
UID:1180-1761177600-1761263999@www.royalroad.school.nz
SUMMARY:Strike Action Day - School Closed
DESCRIPTION:
URL:https://www.royalroad.school.nz/event/strike-action-day-school-closed/
END:VEVENT
BEGIN:VEVENT
DTSTART;VALUE=DATE:20251027
DTEND;VALUE=DATE:20251028
DTSTAMP:20260425T020807
CREATED:20251013T230813Z
LAST-MODIFIED:20251013T230813Z
UID:1182-1761523200-1761609599@www.royalroad.school.nz
SUMMARY:Labour Day Public Holiday - School Closed
DESCRIPTION:
URL:https://www.royalroad.school.nz/event/labour-day-public-holiday-school-closed-2/
END:VEVENT
BEGIN:VEVENT
DTSTART;VALUE=DATE:20251204
DTEND;VALUE=DATE:20251205
DTSTAMP:20260425T020807
CREATED:20251013T230946Z
LAST-MODIFIED:20251013T230946Z
UID:1184-1764806400-1764892799@www.royalroad.school.nz
SUMMARY:School Concert
DESCRIPTION:
URL:https://www.royalroad.school.nz/event/school-concert-3/
END:VEVENT
BEGIN:VEVENT
DTSTART;TZID=Pacific/Auckland:20251211T085500
DTEND;TZID=Pacific/Auckland:20251211T130000
DTSTAMP:20260425T020807
CREATED:20251013T231038Z
LAST-MODIFIED:20251210T043806Z
UID:1186-1765443300-1765458000@www.royalroad.school.nz
SUMMARY:Last Day of School 2025 - Finish at 1pm
DESCRIPTION:
URL:https://www.royalroad.school.nz/event/last-day-of-school-2025/
END:VEVENT
BEGIN:VEVENT
DTSTART;VALUE=DATE:20260128
DTEND;VALUE=DATE:20260129
DTSTAMP:20260425T020807
CREATED:20260105T224458Z
LAST-MODIFIED:20260105T224458Z
UID:1202-1769558400-1769644799@www.royalroad.school.nz
SUMMARY:First Day of Term One
DESCRIPTION:
URL:https://www.royalroad.school.nz/event/first-day-of-term-one-2/
END:VEVENT
BEGIN:VEVENT
DTSTART;VALUE=DATE:20260206
DTEND;VALUE=DATE:20260207
DTSTAMP:20260425T020807
CREATED:20260116T014305Z
LAST-MODIFIED:20260116T014305Z
UID:1207-1770336000-1770422399@www.royalroad.school.nz
SUMMARY:Waitangi Day - School Closed
DESCRIPTION:
URL:https://www.royalroad.school.nz/event/waitangi-day-school-closed/
END:VEVENT
END:VCALENDAR